BEGIN:VCALENDAR
VERSION:2.0
PRODID:-//Aktuelles aus der Goethe-Universität Frankfurt - ECPv6.15.15//NONSGML v1.0//EN
CALSCALE:GREGORIAN
METHOD:PUBLISH
X-WR-CALNAME:Aktuelles aus der Goethe-Universität Frankfurt
X-ORIGINAL-URL:https://aktuelles.uni-frankfurt.de
X-WR-CALDESC:Veranstaltungen für Aktuelles aus der Goethe-Universität Frankfurt
REFRESH-INTERVAL;VALUE=DURATION:PT1H
X-Robots-Tag:noindex
X-PUBLISHED-TTL:PT1H
BEGIN:VTIMEZONE
TZID:Europe/Berlin
BEGIN:DAYLIGHT
TZOFFSETFROM:+0100
TZOFFSETTO:+0200
TZNAME:CEST
DTSTART:20250330T010000
END:DAYLIGHT
BEGIN:STANDARD
TZOFFSETFROM:+0200
TZOFFSETTO:+0100
TZNAME:CET
DTSTART:20251026T010000
END:STANDARD
BEGIN:DAYLIGHT
TZOFFSETFROM:+0100
TZOFFSETTO:+0200
TZNAME:CEST
DTSTART:20260329T010000
END:DAYLIGHT
BEGIN:STANDARD
TZOFFSETFROM:+0200
TZOFFSETTO:+0100
TZNAME:CET
DTSTART:20261025T010000
END:STANDARD
BEGIN:DAYLIGHT
TZOFFSETFROM:+0100
TZOFFSETTO:+0200
TZNAME:CEST
DTSTART:20270328T010000
END:DAYLIGHT
BEGIN:STANDARD
TZOFFSETFROM:+0200
TZOFFSETTO:+0100
TZNAME:CET
DTSTART:20271031T010000
END:STANDARD
END:VTIMEZONE
BEGIN:VEVENT
DTSTART;TZID=Europe/Berlin:20260421T080000
DTEND;TZID=Europe/Berlin:20260421T180000
DTSTAMP:20260421T051110
CREATED:20250206T094456Z
LAST-MODIFIED:20250324T064129Z
UID:10008040-1776758400-1776794400@aktuelles.uni-frankfurt.de
SUMMARY:Dauerausstellung Barbara Klemm
DESCRIPTION:Dauerausstellung mit Fotografien von Barbara Klemm \nIm Jahr 2018 wurde am Campus Westend im ersten Stock des PEG-Gebäudes eine beeindruckende Dauerausstellung mit Fotografien von Barbara Klemm eröffnet. 32 Werke der renommierten F.A.Z.-Fotografin\, die sowohl studentisches Leben als auch bedeutende Momente der deutschen Geschichte\, die Stadt Frankfurt und die Universität dokumentieren\, zieren seither die Gänge vor den Büros des Bereichs Studium Lehre Internationales. Die Ausstellung ist für alle Interessierten öffentlich zugänglich. \n2023 wurde die Sammlung um 44 neue Bilder erweitert\, die seit den 1970er Jahren auf den Reisen von Barbara Klemm entstanden sind. Diese Ergänzung verleiht der Auswahl eine internationale Dimension und bereichert die Ausstellung mit eindrucksvollen Aufnahmen aus der ganzen Welt. \nAnfahrt und Öffnungszeiten\n\n\n\n\n\nBesucheradresse: \nGoethe-Universität Frankfurt  |  Campus Westend\nPEG-Gebäude  |  1.OG  |  Bereich Studium Lehre Internationales (SLI)\nTheodor-W.-Adorno-Platz 6  |  60323 Frankfurt am Main \nHinweise zur Anfahrt und einen Campusplan finden Sie hier: Anfahrt Campus Westend \nDie Ausstellung befindet sich im 1. Stock des PEG-Gebäudes (Nr. 12 auf dem Campusplan). \nÖffnungszeiten:  \nMontag – Freitag (werktags) von 8:00 bis 18:00 Uhr \nGruppenbesichtigungen außerhalb der Öffnungszeiten können angefragt werden. Kontaktieren Sie hierzu bitte Frau Johanna Ruhl: sli-assistenz@sli.uni-frankfurt.de \n  \nWeitere Informationen \n\n\n\n\n\n 
URL:https://aktuelles.uni-frankfurt.de/event/dauerausstellung-barbara-klemm/2026-04-21/
LOCATION:Campus Westend / PEG-Gebäude\, Theodor-W.-Adorno-Platz 6\, Frankfurt\, 60323\, Deutschland
CATEGORIES:Ausstellungen
GEO:50.1285222;8.6695596
X-APPLE-STRUCTURED-LOCATION;VALUE=URI;X-ADDRESS=Campus Westend / PEG-Gebäude Theodor-W.-Adorno-Platz 6 Frankfurt 60323 Deutschland;X-APPLE-RADIUS=500;X-TITLE=Theodor-W.-Adorno-Platz 6:geo:8.6695596,50.1285222
END:VEVENT
BEGIN:VEVENT
DTSTART;TZID=Europe/Berlin:20260421T100000
DTEND;TZID=Europe/Berlin:20260421T180000
DTSTAMP:20260421T051110
CREATED:20260225T195846Z
LAST-MODIFIED:20260309T103526Z
UID:10015053-1776765600-1776794400@aktuelles.uni-frankfurt.de
SUMMARY:Multispezies Members Club | Ausstellung
DESCRIPTION:Wie kann eine technologisierte Gesellschaft  auf Fürsorge und Teilhabe statt auf Konkurrenz bauen? \nDer Multispezies Members Club entwirft im Rahmen der World Design Capital Frankfurt RheinMain 2026 ein zukunftsweisendes Modell des Zusammenlebens: eine inklusive Allianz\, in der Menschen\, Tiere\, Pflanzen und Maschinen als gleichberechtigte Mitglieder agieren. Im Mittelpunkt stehen  Fürsorge\, Kooperation und Teilhabe. \nDie Ausstellung versteht sich als gelebtes Experiment: Sie zeigt\, wie Technologie Kommunikation zwischen unterschiedlichen Spezies ermöglichen und demokratische Teilhabe neu gedacht werden kann — jenseits eines rein menschzentrierten Weltbilds. Zugleich bleibt sie kritisch: Technologie ist nicht neutral. Sie verbraucht Ressourcen\, kann Machtverhältnisse verstärken und stößt dort an Grenzen\, wo natürliche Systeme in ihrer Komplexität nicht reproduzierbar sind. \nZentraler Bestandteil ist Andreas Greiners für die Ausstellung neu entstandene Installation Garden Protocol — ein selbstregulierendes Ökosystem\, das Pflanzen\, Menschen und technologische Systeme über Wasser als gemeinsame Ressource miteinander verbindet. Die Arbeit präsentiert sich als lebendiges Versuchsfeld für neue Formen des Zusammenwirkens von Natur und Technologie. Andreas Greiner (*1979) agiert sowohl als Künstler als auch als Kurator der Ausstellung\, gemeinsam mit Ina Neddermeyer und Susanne Wartenberg. \nWeitere Künstler:innen eröffnen vielschichtige Perspektiven auf Künstliche Intelligenz\, Ökologie und gesellschaftliche  Verantwortung. Wissenschaftler:innen der Goethe-Universität Frankfurt ergänzen das Programm mit Perspektiven aus der KI-Forschung\, Bioinformatik\, Kunstpädagogik\, Anthropologie sowie Erziehungs-\, Kultur- und Literaturwissenschaften. \nDie Ausstellung verbindet Kunst\, Technologie und Nachhaltigkeit und fragt\, wie algorithmische Prozesse kritisch verständlich gemacht und gesellschaftlich verhandelt werden können. Mit einer Inklusiven Clubnacht\, einem Filmprogramm und vielfältigen Workshops z. B. für junge Datendetektiv:innen bietet der Multispezies Members Club ein abwechslungsreiches Vermittlungsprogramm. Kunst und Wissenschaft werden durch performative Formate wie Cyborgs und Chimären ins Gespräch gebracht. \nDauer: 28. März bis 6. September 2026 \nÖffnungszeiten\nDi\, Mi\, Fr\, Sa\, So 10–18 Uhr\nDo 10–20 Uhr \nAn Feiertagen 10–18 Uhr geöffnet\, auch wenn diese auf einen Montag fallen. Zwischen den Ausstellungen ist das Museum wegen Umbau geschlossen. \nMehr Informationen
URL:https://aktuelles.uni-frankfurt.de/event/multispezies-members-club-neue-allianzen-zwischen-lebendigen-und-kuenstlichen-systemen/2026-04-21/
LOCATION:Museum Giersch der Goethe-Universität\, Schaumainkai 83\, Frankfurt\, Hessen\, 60596 \, Deutschland
CATEGORIES:Ausstellungen
ATTACH;FMTTYPE=image/png:https://aktuelles.uni-frankfurt.de/wp-content/uploads/2026/03/Titelbild_MGGU-Ausstellung-Multispezies-Members-Club-1-2-scaled.png
GEO:50.1013048;8.6702194
X-APPLE-STRUCTURED-LOCATION;VALUE=URI;X-ADDRESS=Museum Giersch der Goethe-Universität Schaumainkai 83 Frankfurt Hessen 60596  Deutschland;X-APPLE-RADIUS=500;X-TITLE=Schaumainkai 83:geo:8.6702194,50.1013048
END:VEVENT
BEGIN:VEVENT
DTSTART;TZID=Europe/Berlin:20260421T130000
DTEND;TZID=Europe/Berlin:20260421T150000
DTSTAMP:20260421T051110
CREATED:20251016T072657Z
LAST-MODIFIED:20260114T082424Z
UID:10014165-1776776400-1776783600@aktuelles.uni-frankfurt.de
SUMMARY:ATHENE Distinguished Lecture Series
DESCRIPTION:At the ATHENE Distinguished Lecture Series\, we invite established national and inter­national cybersecurity experts to give us insights into their latest research findings. The lecture is usually held in English. \nFollowing a 20-minute lecture and subsequent discussion with the moderator\, the speakers will engage in a dialogue with the audience.\nAfter the presentation\, you will have the opportunity to talk personally with key players in the field of cybersecurity. \nThese lectures are open to the public and interested visitors are welcome to attend. However\, registration is required. \nmore information and registration \nMonday\, January 19\, 2026 | 1:00 PM – 3:00 PM\nTech Quartier | Platz der Einheit 2 | 60327 Frankfurt am Main\n2. OG | room Hammermann\nProf. Dr. Antonio Krüger\nCEO of the German Research Center for Artificial Intelligence (DFKI) | Professor at Saarland University\nKeynote: „KI und Europa und KI Transfer im Allgemeinen“ \n  \nMonday\, February 9\, 2026 | 1:00 PM – 3:00 PM\nTech Quartier | Platz der Einheit 2 | 60327 Frankfurt am Main\n2. OG | room Hammermann\nLucas Schmitz\nMember of the Hessian State Parliament\, spokesperson for the CDU parliamentary group on science and the arts\nKeynote: „Forschungssicherheit in Zeiten globaler Systemkonkurrenz“ \n  \nMonday\, March 16\, 2026 | 1:00 PM – 3:00 PM\nTech Quartier | Platz der Einheit 2 | 60327 Frankfurt am Main\n2. OG | room Hammermann\nClaudia Plattner\nPresident of the Federal Office for Information Security\nKeynote: „Auf dem Weg zur Cybernation Deutschland“ \n  \nTuesday\, April 21\, 2026 | 1:00 PM – 3:00 PM\nTech Quartier | Platz der Einheit 2 | 60327 Frankfurt am Main\n2. OG | room Hammermann\nFlorian Schütz\nDirector of the Swiss National Cyber­security Center\nKeynote: „Technologie und Geopolitik sowie deren Aus¬wirkungen auf nationale Cyberstrategien“
URL:https://aktuelles.uni-frankfurt.de/event/athene-distinguished-lecture-series/2026-04-21/
LOCATION:Hessen
CATEGORIES:Diskussionen
END:VEVENT
BEGIN:VEVENT
DTSTART;TZID=Europe/Berlin:20260421T150000
DTEND;TZID=Europe/Berlin:20260421T170000
DTSTAMP:20260421T051110
CREATED:20260414T152119Z
LAST-MODIFIED:20260414T152119Z
UID:10016131-1776783600-1776790800@aktuelles.uni-frankfurt.de
SUMMARY:Research at CoBIC
DESCRIPTION:Mit einem wissenschaftlichen Symposium feiert das Cooperative Brain Imaging Center Frankfurt (CoBIC) seine Eröffnung\, nachdem das Gebäude vor einem Jahr offiziell in Betrieb genommen wurde. Das CoBIC ist eine Kooperation der Goethe-Universität Frankfurt\, des Max-Planck-Instituts für empirische Ästhetik und des Ernst Strüngmann Instituts (ESI) der Max-Planck-Gesellschaft. Die enge Zusammenarbeit von grundlagenwissenschaftlichen Instituten und der Universitätsmedizin Frankfurt bietet Forscherinnen und Forschern ein dynamisches Umfeld für innovative Forschungsprojekte. \nIm Rahmen des Symposiums werden neben zahlreichen Fachvorträgen auch Veranstaltungen für interessierte Bürgerinnen und Bürger angeboten\, die – in englischer Sprache – Hirnforschung allgemeinverständlich erklären. \nWelchen Fragestellungen CoBIC-Wissenschaftlerinnen und -Wissenschaftler bei der Erforschung des menschlichen Gehirns nachgehen\, ist Thema einer Reihe interaktiver Sessions im Neubau des CoBIC in Frankfurt-Niederrad. Wie fühlt sich eine Nervenzelle in einem Netzwerk? Wie unterscheiden sich Gedankengänge von Menschen mit und ohne ADHS? Wie kann man mithilfe von Hochfeld-MRT medizinische Diagnosen verbessern oder dem Gehirn beim Arbeiten zusehen? Was passiert im Gehirn\, wenn jemand im MRT liegend Klavier spielt? Welchen Einfluss hat Ernährung auf die Hirnleistung? Diesen Fragen spüren die Forschenden allgemeinverständlich und auf unterhaltsame Weise nach. \nVeranstaltungsort:\nCooperative Brain Imaging Center (CoBIC)\nHeinrich-Hoffmann-Straße 9\nCampus Niederrad
URL:https://aktuelles.uni-frankfurt.de/event/research-at-cobic/
LOCATION:Hessen
CATEGORIES:Vorträge
END:VEVENT
BEGIN:VEVENT
DTSTART;TZID=Europe/Berlin:20260421T161500
DTEND;TZID=Europe/Berlin:20260421T180000
DTSTAMP:20260421T051110
CREATED:20260330T114616Z
LAST-MODIFIED:20260410T125059Z
UID:10015964-1776788100-1776794400@aktuelles.uni-frankfurt.de
SUMMARY:Crossover - Inter.Trans.Undisciplined Anthropology
DESCRIPTION:Kann Wissenschaft die Welt retten? Das Kolloquium bietet einen Rahmen\, um die Grenzen und (Un-)Möglichkeiten der Ethnologie (bzw. Sozial- und Kulturanthropologie) im Dialog mit Kolleginnen und Kollegen aus benachbarten Disziplinen und mit gesellschaftlichen Partnerinnen und Partnern auszuloten. Mit Vorträgen\, Podiumsdiskussionen und kreativen Formaten will es neue Perspektiven auf aktuelle Herausforderungen entwickeln und Impulse für kreative\, kollaborative\, engagierte und innovative Forschungsansätze sammeln. \n14. April | SH 0.105\nSemester-Auftaktveranstaltung mit anschließendem Empfang\nKann Anthropologie die Welt retten?\nPodiumsdiskussion über Public und Engaged Anthropology\nmit Marie Sophie Adeoso (Bildungsstätte Anne Frank)\, Melda Demir (IFEAS\, JGU Mainz)\, Sereina Donatsch (Frankfurter Rundschau)\, Prof. Dr. Larissa Förster (Museum der Weltkulturen)\, Melina Götze (Institut für Ethnologie\, GU) und Prof. Dr. Gisela Welz (KAEE\, GU) \n21. April | SH 1.106\nDr. Maya Mayblin (University of Edinburgh)\nWho Can Save the Amazon? Anthropology\, Theology\, and the Politics of Moral Judgment \n28. April | SH 1.106\nGemechu Bekele (LMU München)\nSpeaking for Nagaa: Navigating Free Expressions in Oromo Linguistic and Cultural Spaces \n5. Mai | SH 1.106\nProf. Dr. Sahana Udupa (LMU München)\nAI and the Dangers of the Discourse Machine \n12. Mai | SH 1.106\nProf. Dr. Margit van Wessel (Wageningen University and\nResearch)\nMaking anthropology work in practice: Opportunities and pitfalls of research collaborations and consultancy \n19. Mai | DONDORF-DRUCKEREI\nXXL-Termin 18 – 20 Uhr\nPodiumsdiskussion: Critical Anthropology\nMit Prof. Dr. Stefan Lessenich (Institut für Sozialforschung)\,\nProf. Dr. Markus Verne (IFEAS\, JGU Mainz)\, Dr. Simone Pfeifer\, Prof. Dr. Mirco Göpfert und Prof. Dr. Catherine Whittaker (IE) \n2. Juni | SH 1.106\nDr. Sowmya Maheswaran (HU Berlin)\nTitel folgt \n9. Juni | SH 5.105\nProf. Dr. Julia Pauli (Universität Hamburg)\nSaved or Trapped? Home\, Gender and Migration in Rural Mexico \n16. Juni | SH 5.105\nProf. Dr. Ernst Halbmeyer (Universität Marburg)\nIndigene Kosmoökologien: Aktuelle Verflechtungen und potenzielle Synergien zwischen indigenen und wissenschaftlichen Wissen \n23. Juni | SH 1.106\nDr. Judith Tavakoli und Ronja Metzger-Ajah (Goethe-Universität)\nCampus Realities \n30. Juni | SH 1.106\nDr. Samantha D. Breslin (Universität Kopenhagen)\nRender the World: Coding Exclusions in Computer Science Education\n \n7. Juli | SH 1.106\nProf. Dr. Umut Yıldırım (Geneva Graduate Institute)\nExtractive States: War and Resistance in Turkey’s Kurdish Heartland \nSondertermin\n8. Juli | SH 0.105\nProf. Dr. Catherine Whittaker\, Prof. Dr. Simon Wendt (Goethe-Universität)\nKick-Off und Vorstellung des DFG-Projekts „Zivilrechte unter Beschuss? Rassifizierung\, Erinnerung und militarisierte Männlichkeiten in den Vereinigten Staaten“ \n14. Juli | SH 1.106\nProf. Dr. Nasima Selim (Universität Bremen) und Debalina Majumder (Kolkata)\nতেঁ তুলতলা র গা ন/ Tamarind Tunes: More-than-Human Conspiration in a South Kolkata Neighborhood\nVortrag mit Filmvorführung “Friends of Jilipibala” \n  \nZeit: 16:15 – 18 Uhr\nOrt: Campus Westend\, Seminarhaus\, wechselnde Räume\nAusnahme\n19.5.: 18 – 20 Uhr\, Dondorf Druckerei\, Gabriel-Riesser-Weg 3\,\n60325 Frankfurt am Main \n  \nVeranstalterin\nProf. Dr. Catherine Whittaker\, Institut für Ethnologie\, Fachbereich Philosophie und Geschichtswissenschaften\,\nGoethe-Universität
URL:https://aktuelles.uni-frankfurt.de/event/crossover-inter-trans-undisciplined-anthropology/2026-04-21/
LOCATION:Campus Westend / Seminarhaus\, Max-Horkheimer-Straße 4\, Frankfurt\, 60323 \, Deutschland
CATEGORIES:Vorträge
GEO:50.1292735;8.6683664
X-APPLE-STRUCTURED-LOCATION;VALUE=URI;X-ADDRESS=Campus Westend / Seminarhaus Max-Horkheimer-Straße 4 Frankfurt 60323  Deutschland;X-APPLE-RADIUS=500;X-TITLE=Max-Horkheimer-Straße 4:geo:8.6683664,50.1292735
END:VEVENT
BEGIN:VEVENT
DTSTART;TZID=Europe/Berlin:20260421T180000
DTEND;TZID=Europe/Berlin:20260421T200000
DTSTAMP:20260421T051110
CREATED:20260331T075031Z
LAST-MODIFIED:20260331T075031Z
UID:10015982-1776794400-1776801600@aktuelles.uni-frankfurt.de
SUMMARY:Faschisierung damals und heute | Eine Relektüre von Virginia Woolfs „Drei Guineen“
DESCRIPTION:Am 5. März 1933 wird Hitler in Berlin zum Reichskanzler gewählt. In ihrem Essay „Drei Guineen“ unternimmt Virginia Woolf angesichts des erstarkten Faschismus in Europa 1938 eine Analyse des Zusammenhangs von Antisemitismus\, Faschismus und bürgerlich patriarchaler Geschlechterordnung und deren Vorstellungen von Männlichkeit und Weiblichkeit. Der Vortrag schlägt einen Bogen von zentralen Einsichten von Woolf zu gegenwärtigen Prozessen der Faschisierung\, die sich unter anderem in Trumps „War on Woke“ zeigen. Damit rechtfertigt Trump unter anderem den radikalen Abbau sozialer Unterstützungen und Maßnahmen gegen Diskriminierung. In diesem Zusammenhang steht auch der Text „Defending Women from Gender Ideology Extremism and restoring biological Truth to the Federal Government“\, in dem Trump die sogenannte Genderideologie zurückweist. \nProf. Dr. Andrea Maihofer\nZentrale Aspekte der Faschisierung damals und heute: Eine Relektüre von Virginia Woolfs „Drei Guineen“ \nZeit: 18:00 –  20:00 Uhr c.t.\nOrt: Campus Westend\, PEG-Gebäude\, Raum 1.G191\, Theodor-W.-Adorno-Platz 6 \nVeranstalter\nCornelia Goethe Centrum für Geschlechterforschung
URL:https://aktuelles.uni-frankfurt.de/event/faschisierung-damals-und-heute-eine-relektuere-von-virginia-woolfs-drei-guineen/
LOCATION:Campus Westend / PEG-Gebäude\, Theodor-W.-Adorno-Platz 6\, Frankfurt\, 60323\, Deutschland
CATEGORIES:Vorträge
GEO:50.1285222;8.6695596
X-APPLE-STRUCTURED-LOCATION;VALUE=URI;X-ADDRESS=Campus Westend / PEG-Gebäude Theodor-W.-Adorno-Platz 6 Frankfurt 60323 Deutschland;X-APPLE-RADIUS=500;X-TITLE=Theodor-W.-Adorno-Platz 6:geo:8.6695596,50.1285222
END:VEVENT
BEGIN:VEVENT
DTSTART;TZID=Europe/Berlin:20260421T181500
DTEND;TZID=Europe/Berlin:20260421T194500
DTSTAMP:20260421T051110
CREATED:20260331T081035Z
LAST-MODIFIED:20260331T081035Z
UID:10015984-1776795300-1776800700@aktuelles.uni-frankfurt.de
SUMMARY:Interdisziplinäre Rechtsmedizin | Sommersemester 2026
DESCRIPTION:Was Insekten auf Leichen verraten\, wie Profiler arbeiten und wo forensische DNA-Analyse weiterhilft– das Arbeitsfeld der Rechtsmediziner ist riesig. Was unterscheidet sie von Pathologen? Warum hilft die Rechtsmedizin den Lebenden? Und warum ist das Team interdisziplinär besetzt? Die Vortragsreihe gibt Auskunft über Aufgabenfeld und Forschungserkenntnisse der Rechtsmedizin. \n14. April\nProf. Dr. Marcel A. Verhoff\nWas ist eine Leiche? \n21. April\nProf. Dr. Marcel A. Verhoff\nGibt es Leichengift? Welche Gefahr von Leichen ausgehen kann und für wen \n28. April\nProf. Dr. Marcel A. Verhoff\nErkennen\, handeln\, vorbeugen: Kinderschutz als interdisziplinäre Aufgabe \n5. Mai\nEKHK Witte (Landeskriminalamt)\nDer Profiler: Realität oder Romanfigur? Die Aufgaben der Operativen Fallanalyse \n12. Mai\nProf. Dr. Jens Amendt\, Dr. Lena Lutz\nWas Insekten auf Leichen verraten: Forensische Entomologie \n19. Mai\nProf. Dr. Marcel A. Verhoff\, Dipl.-Ing. Günther Reichert\nWo saß wer im PKW? Von wo kam der Fußgänger? Rekonstruktion von Verkehrsunfällen \n26. Mai\nProf. Dr. Marcel A. Verhoff\, Prof. Dr. Silke Kauferstein\nEinfach umgeballert? Schuss und Explosion \n2. Juni\nProf. Dr. Marcel A. Verhoff\, PD Dr. Christoph Birngruber\nWohnungstod\, Flugzeugabsturz oder Tsunami: Identifizierung unter Extrembedingungen \n9. Juni\nProf. Dr. Richard Zehner\nMöglichkeiten\, neue Methoden und Grenzen der forensischen DNA-Analyse \n16. Juni\nProf. Dr. Marcel A. Verhoff\nMit einem Bier noch ans Steuer? Fahren nach durchwachter Nacht? Fahrtüchtigkeit/Fahrtauglichkeit \n23. Juni\nPD Dr. Dr. Frank Ramsthaler\nJeder Tropfen zählt: Die Blutspurenanalyse zur Aufklärung von Verbrechen \n30. Juni\nProf. Dr. Marcel Verhoff\nDenn er wusste nicht\, was er tat. Die Beurteilung der Schuldfähigkeit \n7. Juli\nPHK’in Julia Englert\, KHK Frank Lammers\nBesser als Mensch und Technik? Wie Leichenspürhunde arbeiten \n14. Juli\nProf. Dr. Marcel A. Verhoff\, OStA Dr. Olaf König\nOhne Mundschutz am Tatort. Anforderungen des Films an den Fernseh-Rechtsmediziner \nZeit: 18:15 – 19:45 Uhr\nOrt: Universitätsklinikum Frankfurt\, Hörsaal 22-1\, Theodor-Stern-Kai 7 \nVeranstalter\nInstitut für Rechtsmedizin der Goethe-Universität
URL:https://aktuelles.uni-frankfurt.de/event/interdisziplinaere-rechtsmedizin-sose-2026/2026-04-21/
LOCATION:Campus Niederrad / Universitätsklinikum\, Theodor-Stern-Kai 7\, Frankfurt\, 60596\, Deutschland
CATEGORIES:Vorträge
GEO:50.094965;8.6613552
X-APPLE-STRUCTURED-LOCATION;VALUE=URI;X-ADDRESS=Campus Niederrad / Universitätsklinikum Theodor-Stern-Kai 7 Frankfurt 60596 Deutschland;X-APPLE-RADIUS=500;X-TITLE=Theodor-Stern-Kai 7:geo:8.6613552,50.094965
END:VEVENT
BEGIN:VEVENT
DTSTART;TZID=Europe/Berlin:20260421T181500
DTEND;TZID=Europe/Berlin:20260421T201500
DTSTAMP:20260421T051110
CREATED:20260330T120621Z
LAST-MODIFIED:20260330T120722Z
UID:10015978-1776795300-1776802500@aktuelles.uni-frankfurt.de
SUMMARY:Neue archäologische Funde und Forschungen | Sommersemester 2026
DESCRIPTION:Das Fach Klassische Archäologie veranstaltet gemeinsam mit den Fächern Vorderasiatische Archäologie\, Altorientalische Philologie sowie Islamische Archäologie und Kunstgeschichte das Abendkolloquium „Neue archäologische Funde und Forschungen“. Renommierte Fachkollegen aus dem In- und Ausland berichten in dieser Reihe über ihre neuesten Forschungsergebnisse. \n21. April\nProf. Dr. Dominik Lengyel (Cottbus)\nRom\, Pergamon\, Pompeji\, Köln\, Jerusalem: Welterbe mit den Augen des Architekten \n19. Mai\nDr. Manuel Flecker (Mainz)\nKollaborative Kreativität und Emergenz. Mainz und die augusteische Steinarchitektur am Rhein \n23. Juni\nDr. Judith Thomalsky (Berlin)\nVon Ziegel zu Ziegel. Siedlungstransformationen im 1. Jt. v. Chr. in Nordost-Iran. Der Fundplatz Tappe Rivi \n7. Juli\nDr. Marcel Danner (Würzburg)\nFortunas Schicksal – Skulpturen und ihre ‚Biographien‘ im spätantiken Ostia \n  \nZeit: 18.15 Uhr\nOrt: Campus Westend\, I.G. Farben-Haus\, Raum IG 311 \nFür Online-Vorträge → \nVeranstalter\nInstitut für Archäologische Wissenschaften
URL:https://aktuelles.uni-frankfurt.de/event/neue-archaeologische-funde-und-forschungen-sose-2026/2026-04-21/
LOCATION:Hessen
CATEGORIES:Vorträge
END:VEVENT
END:VCALENDAR