BEGIN:VCALENDAR
VERSION:2.0
PRODID:-//Aktuelles aus der Goethe-Universität Frankfurt - ECPv6.15.15//NONSGML v1.0//EN
CALSCALE:GREGORIAN
METHOD:PUBLISH
X-WR-CALNAME:Aktuelles aus der Goethe-Universität Frankfurt
X-ORIGINAL-URL:https://aktuelles.uni-frankfurt.de
X-WR-CALDESC:Veranstaltungen für Aktuelles aus der Goethe-Universität Frankfurt
REFRESH-INTERVAL;VALUE=DURATION:PT1H
X-Robots-Tag:noindex
X-PUBLISHED-TTL:PT1H
BEGIN:VTIMEZONE
TZID:Europe/Berlin
BEGIN:DAYLIGHT
TZOFFSETFROM:+0100
TZOFFSETTO:+0200
TZNAME:CEST
DTSTART:20250330T010000
END:DAYLIGHT
BEGIN:STANDARD
TZOFFSETFROM:+0200
TZOFFSETTO:+0100
TZNAME:CET
DTSTART:20251026T010000
END:STANDARD
BEGIN:DAYLIGHT
TZOFFSETFROM:+0100
TZOFFSETTO:+0200
TZNAME:CEST
DTSTART:20260329T010000
END:DAYLIGHT
BEGIN:STANDARD
TZOFFSETFROM:+0200
TZOFFSETTO:+0100
TZNAME:CET
DTSTART:20261025T010000
END:STANDARD
BEGIN:DAYLIGHT
TZOFFSETFROM:+0100
TZOFFSETTO:+0200
TZNAME:CEST
DTSTART:20270328T010000
END:DAYLIGHT
BEGIN:STANDARD
TZOFFSETFROM:+0200
TZOFFSETTO:+0100
TZNAME:CET
DTSTART:20271031T010000
END:STANDARD
END:VTIMEZONE
BEGIN:VEVENT
DTSTART;TZID=Europe/Berlin:20260423T080000
DTEND;TZID=Europe/Berlin:20260423T180000
DTSTAMP:20260423T202003
CREATED:20250206T094456Z
LAST-MODIFIED:20250324T064129Z
UID:10008042-1776931200-1776967200@aktuelles.uni-frankfurt.de
SUMMARY:Dauerausstellung Barbara Klemm
DESCRIPTION:Dauerausstellung mit Fotografien von Barbara Klemm \nIm Jahr 2018 wurde am Campus Westend im ersten Stock des PEG-Gebäudes eine beeindruckende Dauerausstellung mit Fotografien von Barbara Klemm eröffnet. 32 Werke der renommierten F.A.Z.-Fotografin\, die sowohl studentisches Leben als auch bedeutende Momente der deutschen Geschichte\, die Stadt Frankfurt und die Universität dokumentieren\, zieren seither die Gänge vor den Büros des Bereichs Studium Lehre Internationales. Die Ausstellung ist für alle Interessierten öffentlich zugänglich. \n2023 wurde die Sammlung um 44 neue Bilder erweitert\, die seit den 1970er Jahren auf den Reisen von Barbara Klemm entstanden sind. Diese Ergänzung verleiht der Auswahl eine internationale Dimension und bereichert die Ausstellung mit eindrucksvollen Aufnahmen aus der ganzen Welt. \nAnfahrt und Öffnungszeiten\n\n\n\n\n\nBesucheradresse: \nGoethe-Universität Frankfurt  |  Campus Westend\nPEG-Gebäude  |  1.OG  |  Bereich Studium Lehre Internationales (SLI)\nTheodor-W.-Adorno-Platz 6  |  60323 Frankfurt am Main \nHinweise zur Anfahrt und einen Campusplan finden Sie hier: Anfahrt Campus Westend \nDie Ausstellung befindet sich im 1. Stock des PEG-Gebäudes (Nr. 12 auf dem Campusplan). \nÖffnungszeiten:  \nMontag – Freitag (werktags) von 8:00 bis 18:00 Uhr \nGruppenbesichtigungen außerhalb der Öffnungszeiten können angefragt werden. Kontaktieren Sie hierzu bitte Frau Johanna Ruhl: sli-assistenz@sli.uni-frankfurt.de \n  \nWeitere Informationen \n\n\n\n\n\n 
URL:https://aktuelles.uni-frankfurt.de/event/dauerausstellung-barbara-klemm/2026-04-23/
LOCATION:Campus Westend / PEG-Gebäude\, Theodor-W.-Adorno-Platz 6\, Frankfurt\, 60323\, Deutschland
CATEGORIES:Ausstellungen
GEO:50.1285222;8.6695596
X-APPLE-STRUCTURED-LOCATION;VALUE=URI;X-ADDRESS=Campus Westend / PEG-Gebäude Theodor-W.-Adorno-Platz 6 Frankfurt 60323 Deutschland;X-APPLE-RADIUS=500;X-TITLE=Theodor-W.-Adorno-Platz 6:geo:8.6695596,50.1285222
END:VEVENT
BEGIN:VEVENT
DTSTART;TZID=Europe/Berlin:20260423T100000
DTEND;TZID=Europe/Berlin:20260423T120000
DTSTAMP:20260423T202003
CREATED:20260331T082129Z
LAST-MODIFIED:20260331T082129Z
UID:10015998-1776938400-1776945600@aktuelles.uni-frankfurt.de
SUMMARY:Planetare Grenzen | Sommersemester 2026
DESCRIPTION:Brauchen wir mehr Anpassung und Resilienz\, um der Erderhitzung zu begegnen? \nDie Wissenschaft ist sich einig\, dass die bisherigen Maßnahmen\, das Tempo der Erderhitzung zu verlangsamen und das 1\,5-Grad- Ziel nicht zu überschreiten\, nicht ausreichen. Die negativen Folgen unseres „Nicht-Handelns“ zeigen sich immer deutlicher: zunehmende Hitzewellen\, Dürrephasen\, heftige Unwetter und Überflutungen. Sie machen Maßnahmen zur Klimaanpassung nötig\, um ein verträgliches Leben in Gegenwart und naher Zukunft zu ermöglichen. Gleichzeitig müssen wir den Temperaturanstieg stoppen oder verlangsamen. \nDie Projektgruppe „Planetare Grenzen“ legt in dieser Vortragsreihe den Schwerpunkt auf konkrete Maßnahmen zur Verlangsamung der Erderhitzung sowie Strategien zur Stärkung der Resilienz im Kontext der Klimakrise. Dazu zählen Beiträge zur klimagerechten Stadtentwicklung\, Renaturierung\, nachhaltigen Mobilität und persönlichen Resilienz. \n16. April\nU3L-Projektgruppe „Planetare Grenzen“\nEinführung: Anpassung und Resilienz in der Umweltkrise: Was verstehen wir darunter? \n23. April\nDr. Annegret Haase (Department Stadt- und Umweltsoziologie\, Helmholtz-Zentrum für Umweltforschung – UFZ Leipzig)\nDie blau-grüne Transformation von Städten: Strategien und Experimente\, Kooperationen und Konflikte \n7. Mai\nDr. Felix Peter (Landesschulamt Sachsen-Anhalt/Halle)\nPsychische Belastung\, Resilienz und Handlungsfähigkeit in der Klimakrise \n28. Mai\nAmelie Hünnebeck-Wells (Universität Greifswald)\nÖkosystem Moor: Im Spannungsfeld von Klimaschutz\, Artenvielfalt\, Landnutzung und Gesellschaft \n11. Juni\nProf. Dr. Dörte Ziegler und Charlotte Kuhlmann (Wasserressourcen- und Umweltmanagement – Hochschule Koblenz)\nBedeutung und Umsetzung einer nachhaltigen\, (klima-)resilienten Wasserwirtschaft in Deutschland \n25. Juni\nThorsten Koska (Wuppertal Institut für Klima\, Umwelt\, Energie)\nNachhaltige Mobilität für alle \n2. Juli\nProf. Dr. Frank Adloff (Universität Hamburg)\nGesellschaft in der Klimakatastrophe. Wie weiter? \n9. Juli\nProf. Dr. Josef Settele (Helmholtz-Zentrum für Umweltforschung – UFZ Halle)\nResilienz von Ökosystemen unter Biodiversitätsverlust und Klimawandel \n  \nZeit: 10:00 – 12:00 Uhr\nOrt: online (Link auf der Startseite →) \nDie Vortragsreihe ist öffentlich und kostenfrei. \nVeranstalter\nUniversität des 3. Lebensalters e. V. (U3L)
URL:https://aktuelles.uni-frankfurt.de/event/planetare-grenzen-sose-2026/2026-04-23/
LOCATION:Hessen
CATEGORIES:Vorträge
END:VEVENT
BEGIN:VEVENT
DTSTART;TZID=Europe/Berlin:20260423T100000
DTEND;TZID=Europe/Berlin:20260423T200000
DTSTAMP:20260423T202003
CREATED:20260225T200341Z
LAST-MODIFIED:20260327T074358Z
UID:10015793-1776938400-1776974400@aktuelles.uni-frankfurt.de
SUMMARY:Multispezies Members Club | Ausstellung
DESCRIPTION:Wie kann eine technologisierte Gesellschaft  auf Fürsorge und Teilhabe statt auf Konkurrenz bauen? \nDer Multispezies Members Club entwirft im Rahmen der World Design Capital Frankfurt RheinMain 2026 ein zukunftsweisendes Modell des Zusammenlebens: eine inklusive Allianz\, in der Menschen\, Tiere\, Pflanzen und Maschinen als gleichberechtigte Mitglieder agieren. Im Mittelpunkt stehen  Fürsorge\, Kooperation und Teilhabe. \nDie Ausstellung versteht sich als gelebtes Experiment: Sie zeigt\, wie Technologie Kommunikation zwischen unterschiedlichen Spezies ermöglichen und demokratische Teilhabe neu gedacht werden kann — jenseits eines rein menschzentrierten Weltbilds. Zugleich bleibt sie kritisch: Technologie ist nicht neutral. Sie verbraucht Ressourcen\, kann Machtverhältnisse verstärken und stößt dort an Grenzen\, wo natürliche Systeme in ihrer Komplexität nicht reproduzierbar sind. \nZentraler Bestandteil ist Andreas Greiners für die Ausstellung neu entstandene Installation Garden Protocol — ein selbstregulierendes Ökosystem\, das Pflanzen\, Menschen und technologische Systeme über Wasser als gemeinsame Ressource miteinander verbindet. Die Arbeit präsentiert sich als lebendiges Versuchsfeld für neue Formen des Zusammenwirkens von Natur und Technologie. Andreas Greiner (*1979) agiert sowohl als Künstler als auch als Kurator der Ausstellung\, gemeinsam mit Ina Neddermeyer und Susanne Wartenberg. \nWeitere Künstler:innen eröffnen vielschichtige Perspektiven auf Künstliche Intelligenz\, Ökologie und gesellschaftliche  Verantwortung. Wissenschaftler:innen der Goethe-Universität Frankfurt ergänzen das Programm mit Perspektiven aus der KI-Forschung\, Bioinformatik\, Kunstpädagogik\, Anthropologie sowie Erziehungs-\, Kultur- und Literaturwissenschaften. \nDie Ausstellung verbindet Kunst\, Technologie und Nachhaltigkeit und fragt\, wie algorithmische Prozesse kritisch verständlich gemacht und gesellschaftlich verhandelt werden können. Mit einer Inklusiven Clubnacht\, einem Filmprogramm und vielfältigen Workshops z. B. für junge Datendetektiv:innen bietet der Multispezies Members Club ein abwechslungsreiches Vermittlungsprogramm. Kunst und Wissenschaft werden durch performative Formate wie Cyborgs und Chimären ins Gespräch gebracht. \nDauer: 28. März bis 6. September 2026 \nÖffnungszeiten\nDi\, Mi\, Fr\, Sa\, So 10–18 Uhr\nDo 10–20 Uhr \nAn Feiertagen 10–18 Uhr geöffnet\, auch wenn diese auf einen Montag fallen. Zwischen den Ausstellungen ist das Museum wegen Umbau geschlossen. \nMehr Informationen
URL:https://aktuelles.uni-frankfurt.de/event/multispezies-members-club-neue-allianzen-zwischen-lebendigen-und-kuenstlichen-systemen-2/2026-04-23/
LOCATION:Museum Giersch der Goethe-Universität\, Schaumainkai 83\, Frankfurt\, Hessen\, 60596 \, Deutschland
CATEGORIES:Ausstellungen
ATTACH;FMTTYPE=image/png:https://aktuelles.uni-frankfurt.de/wp-content/uploads/2026/03/Titelbild_MGGU-Ausstellung-Multispezies-Members-Club-1-2-scaled.png
GEO:50.1013048;8.6702194
X-APPLE-STRUCTURED-LOCATION;VALUE=URI;X-ADDRESS=Museum Giersch der Goethe-Universität Schaumainkai 83 Frankfurt Hessen 60596  Deutschland;X-APPLE-RADIUS=500;X-TITLE=Schaumainkai 83:geo:8.6702194,50.1013048
END:VEVENT
BEGIN:VEVENT
DTSTART;TZID=Europe/Berlin:20260423T183000
DTEND;TZID=Europe/Berlin:20260423T203000
DTSTAMP:20260423T202003
CREATED:20260331T141202Z
LAST-MODIFIED:20260331T141231Z
UID:10016047-1776969000-1776976200@aktuelles.uni-frankfurt.de
SUMMARY:Aus Wissen wird Gesundheit
DESCRIPTION:Gesundheitsforum Universitätsmedizin Frankfurt \nMit der Vortrags- und Diskussionsreihe sollen Interessierte und Patient*innen in ihrer persönlichen Gesundheitskompetenz gestärkt werden. Gesundheit ist keine Selbstverständlichkeit\, und jede und jeder kann selbst einiges dafür tun\, um gesundheitsbezogene Lebensqualität zu erhalten oder zu verbessern. Eine erste Voraussetzung dafür ist\, sich für die eigene Gesundheit und die von Angehörigen zu interessieren. \nIn den gut verständlichen Beiträgen des Gesundheitsforums werden aktuelle und wissenschaftlich fundierte Informationen aus erster Hand mitgeteilt und Antworten auf Fragen durch Experten gegeben. \n23. April\nProf. Dr. Jörg Bojunga (Leitung Schwerpunkt Endokrinologie\, Diabetologie\, Ernährungsmedizin\, Medizinische Klinik 1)\nAbnehmspritze – Mythen und Wirklichkeit \n21. Mai\nDr. Lena Marie Seegers\n(Leitung Frauenherzzentrum\, Medizinische Klinik 3)\nWarum Frauenherzen anders schlagen \n11. Juni\nPD Dr. Simon Baudrexel\n(Leitender Oberarzt\, Klinik für Neurologie)\nParkinson: Mehr als Zittern – Einblick in eine komplexe Erkrankung und mögliche Behandlungen \nZeit: 18:30 Uhr\nOrt: online (Vortrag mit anschließendem Raum für Fragen) \nWeitere Infos → \nVeranstalter\nUniversitätsklinikum Frankfurt
URL:https://aktuelles.uni-frankfurt.de/event/aus-wissen-wird-gesundheit/2026-04-23/
LOCATION:Hessen
CATEGORIES:Vorträge
END:VEVENT
BEGIN:VEVENT
DTSTART;TZID=Europe/Berlin:20260423T190000
DTEND;TZID=Europe/Berlin:20260423T210000
DTSTAMP:20260423T202003
CREATED:20260331T143707Z
LAST-MODIFIED:20260331T143753Z
UID:10016050-1776970800-1776978000@aktuelles.uni-frankfurt.de
SUMMARY:Sommerkonzerte | Sommersemester 2026
DESCRIPTION:mit Studierenden der Hochschule für Musik und Darstellende Kunst \nSeit 1997 ziehen die Konzerte in der kleinen Kapelle auf dem Uni-Campus Bockenheim zahlreiche Musikinteressierte an. Die besondere Akustik und Atmosphäre der Konzerte machen sie zu einem lebendigen Treffpunkt für das Frankfurter Konzertpublikum und zugleich zu einer wichtigen Bühne für Studierende der Frankfurter Hochschule für Musik und Darstellende Kunst (HfMDK). \nEine besondere Attraktion sind die Candlelight-Konzerte: In der von Kerzen erleuchteten Kirche präsentieren Studierende und junge Absolvent*innen der Frankfurter Musikhochschule abwechslungsreiche Programme. Dabei bringen die Musiker*innen verstärkt Werke aus ihren jeweiligen Heimatländern auf die Bühne. \n23. April\nCandlelight-Konzert: Musik aus Argentinien – „Esta noche toca Salta“\nMaria Fernanda Cuenca (Violine)\, Javier Cuenca (Gitarre) und Armando Tolaba (Bandeon) \n30. April\n„Prager Frühling – Musik im Aufbruch“\nChannie Chung Dain Pyun & Clara Büchi (Querflöte)\, Yukie Yamakata & Byeongchan Ha (Klavier) \n7. Mai\nCandlelight-Konzert: „Ad Fontes“ (Zu den Wurzeln) – Musik aus der Ukraine\nVioleta Samon + Daria Tymoshenko (Sopran)\, Valeria Maksymova (Klavier) \n21. Mai\n„Sehnsucht und Sturm auf 88 Tasten“\nLorenzo Mazzola (Klavier) \n4. Juni\nCandlelight-Konzert: Harfenklasse der HfMDK \n10. Juni\nKammermusik für Violine und Klavier\nShaobo Zhang (Violine) & Jingjie Wang (Klavier) \n18. Juni\nCandlelight-Konzert: Weltmusik aus Europa für Violoncello und Klavier\nManuel Lipstein (Violoncello) & Arevik Beglaryan (Klavier) \n2. Juli\nKlangfarben zwischen Paris und Buenos Aires – DUO VARUA\nCatalina Jara Muñoz (Piano) & Nicolás Castro Granados (Saxophon) \n9. Juli\nKlavierabend\nJorge Medina Lopez + Evgeniya Povolotskaya \nZeit: 19:00 Uhr\nOrt: Kirche am Campus Bockenheim\, Jügelstaße. 1\, 60325 Frankfurt \nWeitere Informationen: Sabine Rupp (Ltg.) Tel. 0176-610 10 296\nkirche-am-campus@gmx.de \nEintritt frei. Spenden erbeten. \nVeranstalter\nKirche am Campus mit freundlicher Unterstützung\nder Goethe-Universität
URL:https://aktuelles.uni-frankfurt.de/event/sommerkonzerte-sommersemester-2026/2026-04-23/
LOCATION:Hessen
CATEGORIES:Konzerte
END:VEVENT
END:VCALENDAR