BEGIN:VCALENDAR
VERSION:2.0
PRODID:-//Aktuelles aus der Goethe-Universität Frankfurt - ECPv6.15.15//NONSGML v1.0//EN
CALSCALE:GREGORIAN
METHOD:PUBLISH
X-WR-CALNAME:Aktuelles aus der Goethe-Universität Frankfurt
X-ORIGINAL-URL:https://aktuelles.uni-frankfurt.de/en
X-WR-CALDESC:Events for Aktuelles aus der Goethe-Universität Frankfurt
REFRESH-INTERVAL;VALUE=DURATION:PT1H
X-Robots-Tag:noindex
X-PUBLISHED-TTL:PT1H
BEGIN:VTIMEZONE
TZID:Europe/Berlin
BEGIN:DAYLIGHT
TZOFFSETFROM:+0100
TZOFFSETTO:+0200
TZNAME:CEST
DTSTART:20250330T010000
END:DAYLIGHT
BEGIN:STANDARD
TZOFFSETFROM:+0200
TZOFFSETTO:+0100
TZNAME:CET
DTSTART:20251026T010000
END:STANDARD
BEGIN:DAYLIGHT
TZOFFSETFROM:+0100
TZOFFSETTO:+0200
TZNAME:CEST
DTSTART:20260329T010000
END:DAYLIGHT
BEGIN:STANDARD
TZOFFSETFROM:+0200
TZOFFSETTO:+0100
TZNAME:CET
DTSTART:20261025T010000
END:STANDARD
BEGIN:DAYLIGHT
TZOFFSETFROM:+0100
TZOFFSETTO:+0200
TZNAME:CEST
DTSTART:20270328T010000
END:DAYLIGHT
BEGIN:STANDARD
TZOFFSETFROM:+0200
TZOFFSETTO:+0100
TZNAME:CET
DTSTART:20271031T010000
END:STANDARD
END:VTIMEZONE
BEGIN:VEVENT
DTSTART;TZID=Europe/Berlin:20260420T080000
DTEND;TZID=Europe/Berlin:20260420T180000
DTSTAMP:20260420T044441
CREATED:20250206T094456Z
LAST-MODIFIED:20250324T064129Z
UID:10008039-1776672000-1776708000@aktuelles.uni-frankfurt.de
SUMMARY:Dauerausstellung Barbara Klemm
DESCRIPTION:Dauerausstellung mit Fotografien von Barbara Klemm \nIm Jahr 2018 wurde am Campus Westend im ersten Stock des PEG-Gebäudes eine beeindruckende Dauerausstellung mit Fotografien von Barbara Klemm eröffnet. 32 Werke der renommierten F.A.Z.-Fotografin\, die sowohl studentisches Leben als auch bedeutende Momente der deutschen Geschichte\, die Stadt Frankfurt und die Universität dokumentieren\, zieren seither die Gänge vor den Büros des Bereichs Studium Lehre Internationales. Die Ausstellung ist für alle Interessierten öffentlich zugänglich. \n2023 wurde die Sammlung um 44 neue Bilder erweitert\, die seit den 1970er Jahren auf den Reisen von Barbara Klemm entstanden sind. Diese Ergänzung verleiht der Auswahl eine internationale Dimension und bereichert die Ausstellung mit eindrucksvollen Aufnahmen aus der ganzen Welt. \nAnfahrt und Öffnungszeiten\n\n\n\n\n\nBesucheradresse: \nGoethe-Universität Frankfurt  |  Campus Westend\nPEG-Gebäude  |  1.OG  |  Bereich Studium Lehre Internationales (SLI)\nTheodor-W.-Adorno-Platz 6  |  60323 Frankfurt am Main \nHinweise zur Anfahrt und einen Campusplan finden Sie hier: Anfahrt Campus Westend \nDie Ausstellung befindet sich im 1. Stock des PEG-Gebäudes (Nr. 12 auf dem Campusplan). \nÖffnungszeiten:  \nMontag – Freitag (werktags) von 8:00 bis 18:00 Uhr \nGruppenbesichtigungen außerhalb der Öffnungszeiten können angefragt werden. Kontaktieren Sie hierzu bitte Frau Johanna Ruhl: sli-assistenz@sli.uni-frankfurt.de \n  \nWeitere Informationen \n\n\n\n\n\n 
URL:https://aktuelles.uni-frankfurt.de/en/event/dauerausstellung-barbara-klemm/2026-04-20/
LOCATION:Campus Westend / PEG-Gebäude\, Theodor-W.-Adorno-Platz 6\, Frankfurt\, 60323\, Deutschland
CATEGORIES:Ausstellungen
GEO:50.1285222;8.6695596
X-APPLE-STRUCTURED-LOCATION;VALUE=URI;X-ADDRESS=Campus Westend / PEG-Gebäude Theodor-W.-Adorno-Platz 6 Frankfurt 60323 Deutschland;X-APPLE-RADIUS=500;X-TITLE=Theodor-W.-Adorno-Platz 6:geo:8.6695596,50.1285222
END:VEVENT
BEGIN:VEVENT
DTSTART;TZID=Europe/Berlin:20260420T180000
DTEND;TZID=Europe/Berlin:20260420T200000
DTSTAMP:20260420T044441
CREATED:20260331T090431Z
LAST-MODIFIED:20260331T090516Z
UID:10016009-1776708000-1776715200@aktuelles.uni-frankfurt.de
SUMMARY:Hülle. Materialität | Medialität | Wirkung
DESCRIPTION:Organische Oberflächen in der Vormoderne \nDie Anschauungsform von Oberfläche und Hülle enthält immer ihr Gegenteil – das dahinter\, darunter bzw. darin Liegende\, das Unsichtbare\, Teilsichtbare und das nicht Greifbare. Zwischen diesem und der Oberfläche der Hülle gibt es eine Distanz\, die gleichzeitig einen zweiten Sinn transportiert. Hülle und Verhülltes treten in Wechselwirkung. Der Eigensinn der Hülle tritt dabei nie ganz in den Hintergrund. Hier setzt die Ringvorlesung zu organischen Oberflächen an. Die Vortragenden\, die aus verschiedenen Disziplinen kommen\, stellen organische Hüllen wie Kleider\, Schleier\, Vorhänge\, Beutel\, Felle\, Haare\, Haut\, Holz und Leder in ihrer Materialität\, ihrer Lebendigkeit und ihrer doppelsinnigen Medialisierung vor. Und sie erzählen von den mit den unterschiedlichen Hüllen verbundenen Praktiken und Wirkungen. \n20. April\nFranziska Wenzel\, Holger Runow\nMaterialität\, Medialität – Begriff und Konzept \n27. April\nAnna Chalupa Albrecht\, Julika Moos\nMinne und Martyrium auf Haut und Knochen \n4. Mai\nPia Selmayr\nNah dran – Hülle und List bei Hans Folz \n11. Mai\nAlmut Schneider\nRiss im Gewebe \n18. Mai\nNora Grundtner\nHaar und (Schwarze) Haut – Berührungspunkte zweier Oberflächen \n1. Juni\nIsabella Nicka\nHolzoberflächen im Blick – Intermateriale Aushandlungen im Bild \n8. Juni\nKristin Boese\nOrnat und Codex – Zur textilen Bekleidung von Gebetbüchern \n15. Juni\nAdeline Schwabauer\nFischfutter(ale) – Hüllen für Besteck \n22. Juni\nHeike Schlie\nKörper\, Hülle\, Martyrium und Strafe – Über die Kleider von Heiligen \n29. Juni\nCaroline Struwe-Rohr\nWenn Haare Kleider werden – Organische Hüllen und weibliche Heiligkeit \n6. Juli\nInci Bozkaya\nDas Raue und das Weiche – Erzählen von Leder\, Pelz und Fischhaut \n13. Juli\nFelix Giesa\nTüte\, Deckel\, Panel – Hüllen als Strukturprinzip in Comics \nZeit: 18:00 – 20:00 Uhr\nOrt: Campus Westend\, I.G. Farben-Haus\, IG 411\, Norbert-Wollheim-Platz 1 \nKontakt: Cifci@em.uni-frankfurt.de \nVeranstalter\nAbteilung Ältere Deutsche Literatur\, Fachbereich Neuere Philologien
URL:https://aktuelles.uni-frankfurt.de/en/event/huelle-materialitaet-medialitaet-wirkung/2026-04-20/
LOCATION:Campus Westend / IG-Farben-Haus\, Norbert-Wollheim-Platz 1\, Frankfurt\, Hessen\, 60323\, Deutschland
CATEGORIES:Vorträge
GEO:50.1242864;8.6684734
X-APPLE-STRUCTURED-LOCATION;VALUE=URI;X-ADDRESS=Campus Westend / IG-Farben-Haus Norbert-Wollheim-Platz 1 Frankfurt Hessen 60323 Deutschland;X-APPLE-RADIUS=500;X-TITLE=Norbert-Wollheim-Platz 1:geo:8.6684734,50.1242864
END:VEVENT
BEGIN:VEVENT
DTSTART;TZID=Europe/Berlin:20260420T181500
DTEND;TZID=Europe/Berlin:20260420T201500
DTSTAMP:20260420T044441
CREATED:20260414T152123Z
LAST-MODIFIED:20260414T152123Z
UID:10016130-1776708900-1776716100@aktuelles.uni-frankfurt.de
SUMMARY:Imaging Music in Our Brain
DESCRIPTION:Mit einem wissenschaftlichen Symposium feiert das Cooperative Brain Imaging Center Frankfurt (CoBIC) seine Eröffnung\, nachdem das Gebäude vor einem Jahr offiziell in Betrieb genommen wurde. Das CoBIC ist eine Kooperation der Goethe-Universität Frankfurt\, des Max-Planck-Instituts für empirische Ästhetik und des Ernst Strüngmann Instituts (ESI) der Max-Planck-Gesellschaft. Die enge Zusammenarbeit von grundlagenwissenschaftlichen Instituten und der Universitätsmedizin Frankfurt bietet Forscherinnen und Forschern ein dynamisches Umfeld für innovative Forschungsprojekte. \nIm Rahmen des Symposiums werden neben zahlreichen Fachvorträgen auch Veranstaltungen für interessierte Bürgerinnen und Bürger angeboten\, die – in englischer Sprache – Hirnforschung allgemeinverständlich erklären. \nProf. Robert Turner vom Max-Planck-Institut für Kognitions- und Neurowissenschaften in Leipzig beschäftigt sich damit\, wie Musik in unserem Gehirn wahrgenommen und verarbeitet wird. Wie verändert sich das Gehirn\, wenn wir lernen\, ein Musikinstrument zu spielen oder Noten zu lesen? Wie unterscheidet sich Musik- von Sprachverarbeitung im Gehirn? Und wie kann es sein\, dass musikalische Erinnerungen trotz Demenz bestehen bleiben\, dass also zum Teil Menschen\, die krankheitsbedingt nicht mehr sprechen können\, immer noch in der Lage sind\, Lieder zu singen? Im musikalischen Dialog mit Prof. Fredrik Ullén\, Direktor des Max-Planck-Instituts für empirische Ästhetik\, spricht Turner in seinem Vortrag darüber\, wie Musik ein „Fenster zu allgemeinen Hirnfunktionen“ ist. \nVeranstaltungsort:\nFestsaal im Casino\, Campus Westend\nTheodor-W.-Adorno-Platz 1\nGoethe-Universität Frankfurt
URL:https://aktuelles.uni-frankfurt.de/en/event/imaging-music-in-our-brain/
LOCATION:Campus Westend / Casino-Gebäude\, Nina-Rubinstein-Weg 1\, Frankfurt am Main\, Hessen\, 60323\, Deutschland
CATEGORIES:Vorträge
GEO:50.126559;8.6678636
X-APPLE-STRUCTURED-LOCATION;VALUE=URI;X-ADDRESS=Campus Westend / Casino-Gebäude Nina-Rubinstein-Weg 1 Frankfurt am Main Hessen 60323 Deutschland;X-APPLE-RADIUS=500;X-TITLE=Nina-Rubinstein-Weg 1:geo:8.6678636,50.126559
END:VEVENT
BEGIN:VEVENT
DTSTART;TZID=Europe/Berlin:20260420T193000
DTEND;TZID=Europe/Berlin:20260420T213000
DTSTAMP:20260420T044441
CREATED:20260313T085512Z
LAST-MODIFIED:20260313T085704Z
UID:10015951-1776713400-1776720600@aktuelles.uni-frankfurt.de
SUMMARY:StreitClub #17 „Europa allein zu Haus?“
DESCRIPTION:Zeit: Montag\, 20.04.2026\, 19:30 – 21:30 Uhr\nOrt: The English Theatre Frankfurt (Gallusanlage 7\, 60329 Frankfurt am Main) & im Livestream auf YouTube\nmit: Marie-Agnes Strack-Zimmermann (MdEP)\, Marc Felix Serrao (Journalist) sowie den Gastgebern Nicole Deitelhoff (Friedens- und Konfliktforscherin am FGZ) und Michel Friedman (Publizist) sowie Schüler:innen der Toni-Sender-Oberstufe \nWorum geht es an dem Abend?\nEuropa durchläuft zweifellos einen Moment der tiefen Krise: Die zunehmenden Aggressionen der USA\, der fortdauernde Angriffskrieg Russlands und der ökonomische Wettbewerb mit China prüfen nicht nur die Einheit und kollektive Handlungsfähigkeit der europäischen Staaten. Europas ‚Rolle in der Welt‘ scheint viel grundsätzlicher zur Disposition zu stehen. Dazu gehört auch\, dass die selbsternannten ‚europäischen Werte‘ zunehmend unter Beschuss geraten: Der Dreiklang aus demokratischer Selbstbestimmung\, Rechtsstaatlichkeit und Völkerrecht scheint angesichts des Vormarschs autoritärer Kräfte innerhalb und außerhalb der EU zu bröckeln. Erleben wir so etwas wie den weltpolitischen ‚Niedergang Europas‘? Und hat die ‚alte‘ europäische Demokratie ausgedient? Oder gelangt Europa in der Krise zu einer neuen Stärke – und erfindet sich vielleicht sogar neu? \nAlle Informationen → \nDer StreitClub ist eine Kooperation des Forschungsinstitut Gesellschaftlicher Zusammenhalt und The English Theatre Frankfurt; Medienpartner: HR Info
URL:https://aktuelles.uni-frankfurt.de/en/event/streitclub-17-europa-allein-zu-haus/
LOCATION:The English Theatre Frankfurt\, Gallusanlage 7\, Frankfurt am Main\, Hessen\, 60329\, Deutschland
CATEGORIES:Diskussionen
END:VEVENT
END:VCALENDAR